BEGIN:VCALENDAR
VERSION:2.0
PRODID:-//Peoli Farms Produce Auction - ECPv6.15.17.1//NONSGML v1.0//EN
CALSCALE:GREGORIAN
METHOD:PUBLISH
X-ORIGINAL-URL:https://peoliproduceauction.com
X-WR-CALDESC:Events for Peoli Farms Produce Auction
REFRESH-INTERVAL;VALUE=DURATION:PT1H
X-Robots-Tag:noindex
X-PUBLISHED-TTL:PT1H
BEGIN:VTIMEZONE
TZID:America/New_York
BEGIN:DAYLIGHT
TZOFFSETFROM:-0500
TZOFFSETTO:-0400
TZNAME:EDT
DTSTART:20240310T070000
END:DAYLIGHT
BEGIN:STANDARD
TZOFFSETFROM:-0400
TZOFFSETTO:-0500
TZNAME:EST
DTSTART:20241103T060000
END:STANDARD
BEGIN:DAYLIGHT
TZOFFSETFROM:-0500
TZOFFSETTO:-0400
TZNAME:EDT
DTSTART:20250309T070000
END:DAYLIGHT
BEGIN:STANDARD
TZOFFSETFROM:-0400
TZOFFSETTO:-0500
TZNAME:EST
DTSTART:20251102T060000
END:STANDARD
BEGIN:DAYLIGHT
TZOFFSETFROM:-0500
TZOFFSETTO:-0400
TZNAME:EDT
DTSTART:20260308T070000
END:DAYLIGHT
BEGIN:STANDARD
TZOFFSETFROM:-0400
TZOFFSETTO:-0500
TZNAME:EST
DTSTART:20261101T060000
END:STANDARD
END:VTIMEZONE
BEGIN:VEVENT
DTSTART;TZID=America/New_York:20250417T140000
DTEND;TZID=America/New_York:20250417T180000
DTSTAMP:20260419T162814
CREATED:20260214T013728Z
LAST-MODIFIED:20260214T013728Z
UID:5806-1744898400-1744912800@peoliproduceauction.com
SUMMARY:April 17\, 2025
DESCRIPTION:Description# SoldAverageHigh PriceLow Price\n\n\n\n\n	apple 1/2pk155.264\n\n\n	apple pk76.6784\n\n\n	blue berry plant10666\n\n\n	flower 10"37810.07145\n\n\n	flower 12"20515.282010\n\n\n	flower 4"8482.0141.25\n\n\n	flower 6"15444\n\n\n	flower decor pot1202020\n\n\n	grass 430111\n\n\n	lettuce flat1666\n\n\n	maple syrup pt2999\n\n\n	ruhbarb plant244.864.5\n\n\n	tomato plant flat13151515\n\n\n	vegtable plant falt 76.6776
URL:https://peoliproduceauction.com/event/april-17-2025/
LOCATION:Peoli Farms Produce Auction\, 675 State Route 258\, Newcomerstown\, Ohio\, 43832\, United States
CATEGORIES:Market Report
END:VEVENT
BEGIN:VEVENT
DTSTART;TZID=America/New_York:20250424T140000
DTEND;TZID=America/New_York:20250424T180000
DTSTAMP:20260419T162814
CREATED:20260214T013644Z
LAST-MODIFIED:20260214T013644Z
UID:5804-1745503200-1745517600@peoliproduceauction.com
SUMMARY:April 24\, 2025
DESCRIPTION:Description# SoldAverageHigh PriceLow Price\n\n\n\n\n	asparagus 1/2pk3777\n\n\n	asparagus bdle62.32.52\n\n\n	bl raspberry plant15333\n\n\n	black berry plant5222\n\n\n	cabbage plant21.51.51.5\n\n\n	celery1111\n\n\n	eggs333.154.52\n\n\n	flower 10" hanging basket47512.912010\n\n\n	flower 12" hanging basket28817.162712\n\n\n	flower 13'' hanging basket9171717\n\n\n	flower 4" pot13411.0930.2\n\n\n	flower 6" pot603.7563\n\n\n	flower decor planter562.57550\n\n\n	flower wheel borrow decor348.335045\n\n\n	grass 4" pot300.350.350.35\n\n\n	herb mix 4" pot451.331.750.5\n\n\n	lettuce plant31.251.251.25\n\n\n	mushroom morel (plate)2707070\n\n\n	onion plant 1/2flat2666\n\n\n	rhubarb 16ct box2555\n\n\n	rhubarb pk132.532\n\n\n	rhubarb plant201.7521.5\n\n\n	tomato plant263.89151\n\n\n	tomato plant flat177.6184\n\n\n	vegtable plant falt 245.14104
URL:https://peoliproduceauction.com/event/april-24-2025/
LOCATION:Peoli Farms Produce Auction\, 675 State Route 258\, Newcomerstown\, Ohio\, 43832\, United States
CATEGORIES:Market Report
END:VEVENT
END:VCALENDAR