BEGIN:VCALENDAR
VERSION:2.0
PRODID:-//Peoli Farms Produce Auction - ECPv6.15.17.1//NONSGML v1.0//EN
CALSCALE:GREGORIAN
METHOD:PUBLISH
X-WR-CALNAME:Peoli Farms Produce Auction
X-ORIGINAL-URL:https://peoliproduceauction.com
X-WR-CALDESC:Events for Peoli Farms Produce Auction
REFRESH-INTERVAL;VALUE=DURATION:PT1H
X-Robots-Tag:noindex
X-PUBLISHED-TTL:PT1H
BEGIN:VTIMEZONE
TZID:America/New_York
BEGIN:DAYLIGHT
TZOFFSETFROM:-0500
TZOFFSETTO:-0400
TZNAME:EDT
DTSTART:20230312T070000
END:DAYLIGHT
BEGIN:STANDARD
TZOFFSETFROM:-0400
TZOFFSETTO:-0500
TZNAME:EST
DTSTART:20231105T060000
END:STANDARD
BEGIN:DAYLIGHT
TZOFFSETFROM:-0500
TZOFFSETTO:-0400
TZNAME:EDT
DTSTART:20240310T070000
END:DAYLIGHT
BEGIN:STANDARD
TZOFFSETFROM:-0400
TZOFFSETTO:-0500
TZNAME:EST
DTSTART:20241103T060000
END:STANDARD
BEGIN:DAYLIGHT
TZOFFSETFROM:-0500
TZOFFSETTO:-0400
TZNAME:EDT
DTSTART:20250309T070000
END:DAYLIGHT
BEGIN:STANDARD
TZOFFSETFROM:-0400
TZOFFSETTO:-0500
TZNAME:EST
DTSTART:20251102T060000
END:STANDARD
END:VTIMEZONE
BEGIN:VEVENT
DTSTART;TZID=America/New_York:20240610T140000
DTEND;TZID=America/New_York:20240610T140000
DTSTAMP:20260419T212205
CREATED:20260214T021654Z
LAST-MODIFIED:20260214T021654Z
UID:5883-1718028000-1718028000@peoliproduceauction.com
SUMMARY:June 10\, 2024
DESCRIPTION:Description# SoldAverageHigh PriceLow Price\n\n\n\n\n	10in fern hanging basket 4555\n\n\n	10in hanging basket 215.6384\n\n\n	12in hanging basket 197.14104\n\n\n	4in potted flower1050.561.250.35\n\n\n	6in potted flower472.062.50.75\n\n\n	black raspberry pt3835.1564\n\n\n	blueberry pt367.57.57.5\n\n\n	broccoli 1/2pk4111111\n\n\n	cherry tomato plants4444\n\n\n	cuccumber 1/2bu #210888\n\n\n	cuccumber 24ct512.51312\n\n\n	cuccumber 36ct1121.52221\n\n\n	cuccumber pk117.57.57.5\n\n\n	decor grass2555\n\n\n	flower decor basket615.882510\n\n\n	flower decor cone37.57.57.5\n\n\n	flower flat34.554\n\n\n	garlic qt13.53.53.5\n\n\n	garlic scapes pk2888\n\n\n	grape plants108.5107\n\n\n	green onion qt93.53.53.5\n\n\n	mixed berries pt126.756.756.75\n\n\n	onion 1/2 pk2555\n\n\n	onion candy 1/2pk253.953.5\n\n\n	onion candy pk396.4384\n\n\n	onion red pk1413.51413\n\n\n	peas 1/2 pk24999\n\n\n	pepper plant flat1555\n\n\n	pickles 1/2 pk34.54.54.5\n\n\n	pickles pk278.75117\n\n\n	red beet 1/2 bu411.51310\n\n\n	red beet 1/2 pk8444\n\n\n	red beet pk157.2586\n\n\n	roses potted3505050\n\n\n	sour cherries pt206.56.56.5\n\n\n	strawberry qt1664.85.54\n\n\n	tomato 1/2 pk2777\n\n\n	tomato 1/2 pk #22888\n\n\n	tomato 3x3 flat 10#2191919\n\n\n	tomato 3x4 flat 10#12202020\n\n\n	tomato 4x4 flat 10#1620.252218\n\n\n	tomato 4x5 flat 10#919.672217\n\n\n	tomato color mix 10# flat1202020\n\n\n	tomato color mix qt83.53.53.5\n\n\n	tomato flat 10#615.671814\n\n\n	tomato flat 10# #25151712\n\n\n	tomato green 10# flat 4131412\n\n\n	tomato heirloom 1/2 pk45.574\n\n\n	tomato yellow 10# flat 520.752419\n\n\n	vegtable plants flat1555\n\n\n	yellow squash 1/2 pk1555\n\n\n	zucchinni 1/2pk55.3374\n\n\n	zucchinni 1/2pk #21444
URL:https://peoliproduceauction.com/event/june-10-2024/
LOCATION:Peoli Farms Produce Auction\, 675 State Route 258\, Newcomerstown\, Ohio\, 43832\, United States
CATEGORIES:Market Report
END:VEVENT
BEGIN:VEVENT
DTSTART;TZID=America/New_York:20240606T140000
DTEND;TZID=America/New_York:20240606T140000
DTSTAMP:20260419T212205
CREATED:20260214T021747Z
LAST-MODIFIED:20260214T021747Z
UID:5885-1717682400-1717682400@peoliproduceauction.com
SUMMARY:June 6\, 2024
DESCRIPTION:Description# SoldAverageHigh PriceLow Price\n\n\n\n\n	10in fern hanging basket 3111111\n\n\n	10in hanging basket 279.08116\n\n\n	12in hanging basket 329.72153\n\n\n	14in hanging basket 314.331713\n\n\n	4in potted flower1052.650.5\n\n\n	6in potted flower363.755.52\n\n\n	8in potted flower4777\n\n\n	basil plant flat 1777\n\n\n	black raspberry plant202.753.52\n\n\n	black raspberry pt2446.086.55.5\n\n\n	blueberry plant2777\n\n\n	blueberry pt534.134.54\n\n\n	broccoli pk95.6765\n\n\n	cherry tomato plants8141414\n\n\n	cuccumber 1/2bu #248.598\n\n\n	cuccumber 24ct2171816\n\n\n	cuccumber 36ct2181818\n\n\n	cuccumber pk2101010\n\n\n	flower decor basket917.292411\n\n\n	flower decor cone415.252113\n\n\n	flower decor shoe1333\n\n\n	flower flat68.33107\n\n\n	fresh herbs pk1222\n\n\n	grape plants107.596\n\n\n	green bean 1/2bu3202020\n\n\n	green bean 1/2pk15555\n\n\n	green bean pk16111210\n\n\n	green onion 1/2 pk3777\n\n\n	green onion qt113.53.53.5\n\n\n	green tom 1/2 pk2555\n\n\n	mixed herb flat1555\n\n\n	mixed vegtable plantsflat66.88112.5\n\n\n	onion candy 1/2pk144.635.54\n\n\n	onion candy pk1612.3812.512\n\n\n	onion red pk6777\n\n\n	pepper plant flat2222\n\n\n	pickles 1/2 pk11666\n\n\n	pickles pk307.6397\n\n\n	pickles qt163.543\n\n\n	red beet 1/2 bu1111111\n\n\n	red beet 1/2 pk1944.53\n\n\n	red beet pk197.186\n\n\n	red raspberry plant4999\n\n\n	rhubarb pk66.3376\n\n\n	roses potted515.25279\n\n\n	strawberry qt6474.625.254\n\n\n	strawberry qt #237444\n\n\n	tomato 1/2 pk68.88127\n\n\n	tomato 3x4 flat 10#5202020\n\n\n	tomato 4x4 flat 10#722.672621\n\n\n	tomato 4x5 flat 10#422.332322\n\n\n	tomato flat 10#3222222\n\n\n	tomato flat 10# #2219.52415\n\n\n	tomato green 10# flat 2121212\n\n\n	tomato plant flat21.521\n\n\n	tomato plants 4333\n\n\n	tomato qt84.54.54.5\n\n\n	tomato yellow 10# flat 1101010\n\n\n	vegtable plants flat62.441\n\n\n	zucchinni pk2777
URL:https://peoliproduceauction.com/event/june-6-2024/
LOCATION:Peoli Farms Produce Auction\, 675 State Route 258\, Newcomerstown\, Ohio\, 43832\, United States
CATEGORIES:Market Report
END:VEVENT
BEGIN:VEVENT
DTSTART;TZID=America/New_York:20240603T140000
DTEND;TZID=America/New_York:20240603T140000
DTSTAMP:20260419T212205
CREATED:20260214T021828Z
LAST-MODIFIED:20260214T021828Z
UID:5888-1717423200-1717423200@peoliproduceauction.com
SUMMARY:June 3\, 2024
DESCRIPTION:Description# SoldAverageHigh PriceLow Price\n\n\n\n\n	10in hanging basket 347.83203\n\n\n	12in hanging basket 208.8212.55\n\n\n	4in potted flower1550.541.250.1\n\n\n	6in potted flower424.3852.5\n\n\n	basil flat2121212\n\n\n	black raspberry plant203.552\n\n\n	black raspberry pt1167.177.57\n\n\n	blueberry pt18555\n\n\n	cherry tomato plants6444\n\n\n	cuccumber 1/2bu412.51312\n\n\n	cuccumber 24ct5252525\n\n\n	cuccumber 36ct2282828\n\n\n	cuccumber pk212159\n\n\n	decor grass3222\n\n\n	flower decor basket525.63455\n\n\n	flower decor cone2202020\n\n\n	flower flat147.39153\n\n\n	grape plants10333\n\n\n	green bean 1/2pk25.55.55.5\n\n\n	green onion 1/2 pk56.576\n\n\n	green onion qt53.53.53.5\n\n\n	mixed herb flat1888\n\n\n	onion candy 1/2pk4121212\n\n\n	onion candy pk9999\n\n\n	pepper plants1666\n\n\n	pickles 1/2 pk148.5107\n\n\n	red beet 1/2 pk5777\n\n\n	red beet pk12777\n\n\n	strawberry qt7674.6463.75\n\n\n	sweet potato plants flat1131313\n\n\n	tomato 1/2 pk36.67105\n\n\n	tomato 3x4 flat 10#331.53231\n\n\n	tomato 4x4 flat 10#4242820\n\n\n	tomato 4x5 flat 10#323.52720\n\n\n	tomato flat 10#422.673115\n\n\n	tomato green 1/2pk55.565\n\n\n	tomato green 10# flat 314.51514\n\n\n	tomato heirloom 1/2 pk1222\n\n\n	tomato plants 6222\n\n\n	tomato qt1444.53.5\n\n\n	tomato roma 1/2pk146.75115\n\n\n	tomato yellow 10# flat1323232\n\n\n	tomato yellow 10# flat 1242424\n\n\n	vegtable plants87.83103\n\n\n	yellow squash 1/2 pk1444\n\n\n	zucchinni 1/2pk2555\n\n\n	zucchinni pk5666
URL:https://peoliproduceauction.com/event/june-3-2024/
LOCATION:Peoli Farms Produce Auction\, 675 State Route 258\, Newcomerstown\, Ohio\, 43832\, United States
CATEGORIES:Market Report
END:VEVENT
BEGIN:VEVENT
DTSTART;TZID=America/New_York:20240530T140000
DTEND;TZID=America/New_York:20240530T140000
DTSTAMP:20260419T212205
CREATED:20260214T021931Z
LAST-MODIFIED:20260214T021931Z
UID:5890-1717077600-1717077600@peoliproduceauction.com
SUMMARY:May 30\, 2024
DESCRIPTION:Description# SoldAverageHigh PriceLow Price\n\n\n\n\n	10in hanging basket 1912.751711\n\n\n	12in hanging basket 2611.9207\n\n\n	4in potted flower802.880.55\n\n\n	6in potted flower182.3331\n\n\n	black raspberry pt197.137.257\n\n\n	cherry tomato plant10444\n\n\n	cuccumber 24ct1141414\n\n\n	cuccumber 36ct324.524.524.5\n\n\n	cuccumber pk412.131311.5\n\n\n	ferns 10in basket2777\n\n\n	flower decor basket1121212\n\n\n	flower decor cone416.52013\n\n\n	flower flat118131\n\n\n	green bean 1/2bu2171717\n\n\n	green bean 1/2pk164.885.54\n\n\n	green bean pk198.67108\n\n\n	green onion qt5555\n\n\n	onion candy pk613.331413\n\n\n	pickle 1/2 pk56.6786\n\n\n	raspberry plant202.252.52\n\n\n	red beet 1/2 pk8555\n\n\n	red beet pk138.5107\n\n\n	rhubarb bundle1111\n\n\n	roses516.252012.5\n\n\n	strawberry qt13873.824.852.75\n\n\n	strawberry qt #2323.53.53.5\n\n\n	tomato 1/2 pk413.251610\n\n\n	tomato 4x5 flat 10#2262725\n\n\n	tomato flat 10#218.52215\n\n\n	tomato green 10lb1141414\n\n\n	tomato heirloom 1/2 pk1111111\n\n\n	tomato plant85.6784\n\n\n	tomato qt12564\n\n\n	vegtable plant flat 167.86124
URL:https://peoliproduceauction.com/event/may-30-2024/
LOCATION:Peoli Farms Produce Auction\, 675 State Route 258\, Newcomerstown\, Ohio\, 43832\, United States
CATEGORIES:Market Report
END:VEVENT
BEGIN:VEVENT
DTSTART;TZID=America/New_York:20240527T140000
DTEND;TZID=America/New_York:20240527T140000
DTSTAMP:20260419T212205
CREATED:20260214T022014Z
LAST-MODIFIED:20260214T022014Z
UID:5892-1716818400-1716818400@peoliproduceauction.com
SUMMARY:May 27\, 2024
DESCRIPTION:Description# SoldAverageHigh PriceLow Price\n\n\n\n\n	10in hanging basket 2138.85253\n\n\n	12in hanging basket 2129.3427.54\n\n\n	14in hanging basket 629.173525\n\n\n	4in potted flower4320.721.50.25\n\n\n	4x5 tomato flat 10#2313230\n\n\n	6in potted flower1142.174.50.75\n\n\n	6in potted sun flower301.131.251\n\n\n	6in roses2210158\n\n\n	8in fern8333\n\n\n	apple tree9606555\n\n\n	basil flat410.33127\n\n\n	flolwer flat1511.33163\n\n\n	flower decor basket5121.58653\n\n\n	flower decor cone1223.43415\n\n\n	flower decor pot2216.78406\n\n\n	flower decor shoes1222\n\n\n	flower decor tub1666\n\n\n	flower decor wagon2181818\n\n\n	flower decor wagon wheel1454545\n\n\n	flower decor wishing well1454545\n\n\n	flower decore stump272.512520\n\n\n	flower planter chair1202020\n\n\n	flower wagon wheel decor1555\n\n\n	green onion 1/2 pk116.595\n\n\n	green onion qt6555\n\n\n	ornamental grass8222\n\n\n	potato 5#90.750.750.75\n\n\n	raspberry plant224.254.54\n\n\n	red beet 1/2 pk193.94.53\n\n\n	sour cherry pt72.52.52.5\n\n\n	strawberry plant flat2181818\n\n\n	strawberry qt12214.0753.5\n\n\n	strawberry qt #2244.254.54\n\n\n	sw potato plant flat28124\n\n\n	tomato 1/2 pk1777\n\n\n	tomato 1/2pk411139\n\n\n	tomato flat 10#621.332220\n\n\n	tomato plant151.8331\n\n\n	tomato plant 10in basket128105\n\n\n	tomato plant flat144.8662\n\n\n	tomato qt165.255.55\n\n\n	vegtable plant flat 48.33113
URL:https://peoliproduceauction.com/event/may-27-2024/
LOCATION:Peoli Farms Produce Auction\, 675 State Route 258\, Newcomerstown\, Ohio\, 43832\, United States
CATEGORIES:Market Report
END:VEVENT
BEGIN:VEVENT
DTSTART;TZID=America/New_York:20240523T140000
DTEND;TZID=America/New_York:20240523T140000
DTSTAMP:20260419T212205
CREATED:20260214T022207Z
LAST-MODIFIED:20260214T022207Z
UID:5894-1716472800-1716472800@peoliproduceauction.com
SUMMARY:May 23\, 2024
DESCRIPTION:Description# SoldAverageHigh PriceLow Price\n\n\n\n\n	10in fern hanging basket135.67113\n\n\n	10in hanging basket 1878.8145\n\n\n	12in hanging basket 14810.65195\n\n\n	4x5 tomato flat 10#2232323\n\n\n	5in potted flower142.7532\n\n\n	5x5 tomato flat 10#1131313\n\n\n	6in potted flower843.5591\n\n\n	6in roses128.5106\n\n\n	8in potted flower89.33109\n\n\n	cabbage plant flat 2333\n\n\n	flolwer flat1242424\n\n\n	flower decor1914.2195\n\n\n	flower decor basket1151515\n\n\n	flower decor cone2141414\n\n\n	flower decor wagon525.24215\n\n\n	flower decor welcome sign1171717\n\n\n	flower decore stump2202515\n\n\n	flower flat1107.49201.25\n\n\n	green bush6342\n\n\n	green onion 1/2 pk1155.54\n\n\n	green onion qt82.52.52.5\n\n\n	herb mix plant flat2141414\n\n\n	pepper plant flat 1101010\n\n\n	red beet 1/2 pk83.53.53.5\n\n\n	strawberry qt8344.195.52.5\n\n\n	strawberry qt #2243.53.53.5\n\n\n	sweet potato plant flat 1111\n\n\n	tomato flat 10#519.52118\n\n\n	tomato plant202.3331\n\n\n	tomato plant flat54.7563\n\n\n	vegtable plant flat 68115
URL:https://peoliproduceauction.com/event/may-23-2024/
LOCATION:Peoli Farms Produce Auction\, 675 State Route 258\, Newcomerstown\, Ohio\, 43832\, United States
CATEGORIES:Market Report
END:VEVENT
BEGIN:VEVENT
DTSTART;TZID=America/New_York:20240520T140000
DTEND;TZID=America/New_York:20240520T140000
DTSTAMP:20260419T212205
CREATED:20260214T022243Z
LAST-MODIFIED:20260214T022243Z
UID:5896-1716213600-1716213600@peoliproduceauction.com
SUMMARY:May 20\, 2024
DESCRIPTION:Description# SoldAverageHigh PriceLow Price\n\n\n\n\n	10in fern 2999\n\n\n	10in hanging basket 17910.33214\n\n\n	12in hanging basket 12513.49265\n\n\n	4in fern 120.450.450.45\n\n\n	4in potted flower10961.0130.1\n\n\n	6in potted flower1561.8840.5\n\n\n	6in roses6786\n\n\n	6in sunflower201.131.251\n\n\n	8" decore grass7453\n\n\n	8in potted flower6888\n\n\n	black berry plant188.4127\n\n\n	blackraspberry plant250.550.650.45\n\n\n	flower decor pot 3422.97455\n\n\n	flower decor urns 2161616\n\n\n	flower decor wagon pot 3202020\n\n\n	flower decor wishing well pot 1656565\n\n\n	flower flat1610.3622.53\n\n\n	garlic tops 1/2 pk10.10.10.1\n\n\n	grape plants13333\n\n\n	green onion 1/2pk 10564\n\n\n	green onion qt2666\n\n\n	green tomato qt8222\n\n\n	mix vegtable plant flat 2555\n\n\n	potato 5lb101.751.751.75\n\n\n	raspberry plant1222\n\n\n	red beet 1/2pk6555\n\n\n	rhubarb pk3222\n\n\n	strawberry qt5003.735.52.75\n\n\n	tomato 1/2 pk56.276\n\n\n	tomato flat 10#718289\n\n\n	tomato plant187133\n\n\n	tomato plant flat55121\n\n\n	vegtable plant flat 44.572\n\n\n	zucchini 1/2 pk1111
URL:https://peoliproduceauction.com/event/may-20-2024/
LOCATION:Peoli Farms Produce Auction\, 675 State Route 258\, Newcomerstown\, Ohio\, 43832\, United States
CATEGORIES:Market Report
END:VEVENT
BEGIN:VEVENT
DTSTART;TZID=America/New_York:20240516T140000
DTEND;TZID=America/New_York:20240516T140000
DTSTAMP:20260419T212205
CREATED:20260214T022326Z
LAST-MODIFIED:20260214T022326Z
UID:5898-1715868000-1715868000@peoliproduceauction.com
SUMMARY:May 16\, 2024
DESCRIPTION:Description# SoldAverageHigh PriceLow Price\n\n\n\n\n	10in hanging basket 26313.51255\n\n\n	12in hanging basket 13415.332811\n\n\n	4in potted flower13581.440.25\n\n\n	6in potted fern4555\n\n\n	6in potted flower1813.6791\n\n\n	8in potted flower444.0572.5\n\n\n	black berry plant11333\n\n\n	celery plant flat1222\n\n\n	cherry tomato plant126.885\n\n\n	concord grape plant154.554\n\n\n	flower decor pot 2928.866011\n\n\n	flower flat3351\n\n\n	green onion 1/2pk 65.565\n\n\n	herb plant flat1666\n\n\n	lettuce 1/2pk2222\n\n\n	pepper plant flat2111111\n\n\n	potato 5lb93.753.753.75\n\n\n	raspberry plant453.543\n\n\n	red beet pk4444\n\n\n	roses plant 2171717\n\n\n	strawberry qt965.46.255\n\n\n	tomato 1/2 peck36.759.54\n\n\n	tomato plant6222\n\n\n	tomato plant flat811.6197\n\n\n	vegtable plant flat 2675\n\n\n	zucchini 1/2 pk1444
URL:https://peoliproduceauction.com/event/may-16-2024/
LOCATION:Peoli Farms Produce Auction\, 675 State Route 258\, Newcomerstown\, Ohio\, 43832\, United States
CATEGORIES:Market Report
END:VEVENT
BEGIN:VEVENT
DTSTART;TZID=America/New_York:20240513T140000
DTEND;TZID=America/New_York:20240513T140000
DTSTAMP:20260419T212205
CREATED:20260214T022407Z
LAST-MODIFIED:20260214T022407Z
UID:5900-1715608800-1715608800@peoliproduceauction.com
SUMMARY:May 13\, 2024
DESCRIPTION:Description# SoldAverageHigh PriceLow Price\n\n\n\n\n	10in hanging basket 32613.8522.59\n\n\n	12in hanging basket 22716.182412\n\n\n	4in potted flower13780.953.50.25\n\n\n	4x5 tomato flat313.671810\n\n\n	6in potted flower1922.8841\n\n\n	flower bench decor pot 1454545\n\n\n	flower decor pot 3228.757512.5\n\n\n	flower flat1111\n\n\n	flower wagon decor pot 1252525\n\n\n	green onion 1/2pk 5555\n\n\n	lettuce 1/2pk3555\n\n\n	pepper plant flat48.5107\n\n\n	raspberry plant3222.51.5\n\n\n	red beet pk2555\n\n\n	rhubarb pk2333\n\n\n	rhubarbpk1222\n\n\n	strawberry qt164.554\n\n\n	tomato 1/2 peck56.885\n\n\n	tomato green qt8222\n\n\n	tomato plant275.17102\n\n\n	tomato plant flat5999
URL:https://peoliproduceauction.com/event/may-13-2024/
LOCATION:Peoli Farms Produce Auction\, 675 State Route 258\, Newcomerstown\, Ohio\, 43832\, United States
CATEGORIES:Market Report
END:VEVENT
BEGIN:VEVENT
DTSTART;TZID=America/New_York:20240510T140000
DTEND;TZID=America/New_York:20240510T140000
DTSTAMP:20260419T212205
CREATED:20260214T022447Z
LAST-MODIFIED:20260214T022447Z
UID:5902-1715349600-1715349600@peoliproduceauction.com
SUMMARY:May 10\, 2024
DESCRIPTION:Description# SoldAverageHigh PriceLow Price\n\n\n\n\n	10in hanging basket 57611.01212\n\n\n	12in hanging basket 36715327\n\n\n	4in potted flower20741.9380.5\n\n\n	5in potted flower803.452.25\n\n\n	6in potted flower36582\n\n\n	6in potted sun flower18333\n\n\n	blackn rasperry plant24573\n\n\n	cantaloupe plant flat 54.554\n\n\n	celery plant flat2888\n\n\n	flower bench decor1606060\n\n\n	flower corner post decor pot 1757575\n\n\n	flower decor pot 7325.69855\n\n\n	flower flat167.25113\n\n\n	flower stump decor1555555\n\n\n	flower train decor1858585\n\n\n	flower wagon decor pot 3263220\n\n\n	flower welcome decor pot 1303030\n\n\n	flower wheel decor pot 55910525\n\n\n	flower window planter723.753020\n\n\n	flower wishing well decor7657545\n\n\n	garlic 1/2 pk73.3352\n\n\n	garlic 1/2pk20.950.950.95\n\n\n	grape plant89.5109\n\n\n	herb pot 39.5822.51.25\n\n\n	onion plant flat3131313\n\n\n	pepper plant flat299.513.57\n\n\n	potato 5#10342\n\n\n	raspberry plant flat152.52.52.5\n\n\n	rhubarb pk810.671110\n\n\n	rhubarb plant11693\n\n\n	strawberry qt877.56.5\n\n\n	tomato 1/2 pk1999\n\n\n	tomato plant245.71132\n\n\n	tomato plant flat3010.37195\n\n\n	tomato qt13.53.53.5\n\n\n	vatable plant flat 211.51211
URL:https://peoliproduceauction.com/event/may-10-2024/
LOCATION:Peoli Farms Produce Auction\, 675 State Route 258\, Newcomerstown\, Ohio\, 43832\, United States
CATEGORIES:Market Report
END:VEVENT
BEGIN:VEVENT
DTSTART;TZID=America/New_York:20240506T140000
DTEND;TZID=America/New_York:20240506T140000
DTSTAMP:20260419T212205
CREATED:20260214T040222Z
LAST-MODIFIED:20260214T132445Z
UID:5906-1715004000-1715004000@peoliproduceauction.com
SUMMARY:May 6\, 2024
DESCRIPTION:Description# SoldAverageHigh PriceLow Price\n\n\n\n\n	10in hanging basket 33311.58206\n\n\n	12in hanging basket 29514.93226\n\n\n	4in potted flower9121.4840.5\n\n\n	6in potted flower466.46162.25\n\n\n	asparagus 1/2pk2444\n\n\n	black raspberry plant flat15333\n\n\n	black raspberry plant9777\n\n\n	cantaloupe plant flat4564\n\n\n	decor wagon flower pot 127.527.527.5\n\n\n	decor wheel barrow flower pot 1252525\n\n\n	ferns 18 ct360.450.450.45\n\n\n	flower chair decor pot 1151515\n\n\n	flower decor pot 2722.056512\n\n\n	flower wheel decor1858585\n\n\n	garlic 1/2 pk50.950.950.95\n\n\n	pepper plant flat227.78125\n\n\n	radishes 1/2 pk23.53.53.5\n\n\n	rhubarb pk4101010\n\n\n	succulent plant flat1191919\n\n\n	tomato 1/2 pk38.67108\n\n\n	tomato plant237.31183\n\n\n	tomato plant flat 309.91136
URL:https://peoliproduceauction.com/event/may-6-2024-2/
LOCATION:Peoli Farms Produce Auction\, 675 State Route 258\, Newcomerstown\, Ohio\, 43832\, United States
CATEGORIES:Market Report
END:VEVENT
BEGIN:VEVENT
DTSTART;TZID=America/New_York:20240506T140000
DTEND;TZID=America/New_York:20240506T140000
DTSTAMP:20260419T212205
CREATED:20260214T022525Z
LAST-MODIFIED:20260214T022525Z
UID:5904-1715004000-1715004000@peoliproduceauction.com
SUMMARY:May 6\, 2024
DESCRIPTION:Description# SoldAverageHigh PriceLow Price\n\n\n\n\n	10in hanging basket 33311.58206\n\n\n	12in hanging basket 29514.93226\n\n\n	4in potted flower9121.4840.5\n\n\n	6in potted flower466.46162.25\n\n\n	asparagus 1/2pk2444\n\n\n	black raspberry plant flat15333\n\n\n	black raspberry plant9777\n\n\n	cantaloupe plant flat4564\n\n\n	decor wagon flower pot 127.527.527.5\n\n\n	decor wheel barrow flower pot 1252525\n\n\n	ferns 18 ct360.450.450.45\n\n\n	flower chair decor pot 1151515\n\n\n	flower decor pot 2722.056512\n\n\n	flower wheel decor1858585\n\n\n	garlic 1/2 pk50.950.950.95\n\n\n	pepper plant flat227.78125\n\n\n	radishes 1/2 pk23.53.53.5\n\n\n	rhubarb pk4101010\n\n\n	succulent plant flat1191919\n\n\n	tomato 1/2 pk38.67108\n\n\n	tomato plant237.31183\n\n\n	tomato plant flat 309.91136
URL:https://peoliproduceauction.com/event/may-6-2024/
LOCATION:Peoli Farms Produce Auction\, 675 State Route 258\, Newcomerstown\, Ohio\, 43832\, United States
CATEGORIES:Market Report
END:VEVENT
END:VCALENDAR