BEGIN:VCALENDAR
VERSION:2.0
PRODID:-//Peoli Farms Produce Auction - ECPv6.15.17.1//NONSGML v1.0//EN
CALSCALE:GREGORIAN
METHOD:PUBLISH
X-ORIGINAL-URL:https://peoliproduceauction.com
X-WR-CALDESC:Events for Peoli Farms Produce Auction
REFRESH-INTERVAL;VALUE=DURATION:PT1H
X-Robots-Tag:noindex
X-PUBLISHED-TTL:PT1H
BEGIN:VTIMEZONE
TZID:America/New_York
BEGIN:DAYLIGHT
TZOFFSETFROM:-0500
TZOFFSETTO:-0400
TZNAME:EDT
DTSTART:20240310T070000
END:DAYLIGHT
BEGIN:STANDARD
TZOFFSETFROM:-0400
TZOFFSETTO:-0500
TZNAME:EST
DTSTART:20241103T060000
END:STANDARD
BEGIN:DAYLIGHT
TZOFFSETFROM:-0500
TZOFFSETTO:-0400
TZNAME:EDT
DTSTART:20250309T070000
END:DAYLIGHT
BEGIN:STANDARD
TZOFFSETFROM:-0400
TZOFFSETTO:-0500
TZNAME:EST
DTSTART:20251102T060000
END:STANDARD
BEGIN:DAYLIGHT
TZOFFSETFROM:-0500
TZOFFSETTO:-0400
TZNAME:EDT
DTSTART:20260308T070000
END:DAYLIGHT
BEGIN:STANDARD
TZOFFSETFROM:-0400
TZOFFSETTO:-0500
TZNAME:EST
DTSTART:20261101T060000
END:STANDARD
BEGIN:DAYLIGHT
TZOFFSETFROM:-0500
TZOFFSETTO:-0400
TZNAME:EDT
DTSTART:20270314T070000
END:DAYLIGHT
BEGIN:STANDARD
TZOFFSETFROM:-0400
TZOFFSETTO:-0500
TZNAME:EST
DTSTART:20271107T060000
END:STANDARD
END:VTIMEZONE
BEGIN:VEVENT
DTSTART;TZID=America/New_York:20251009T140000
DTEND;TZID=America/New_York:20251009T180000
DTSTAMP:20260420T000810
CREATED:20260213T212729Z
LAST-MODIFIED:20260213T212729Z
UID:5566-1760018400-1760032800@peoliproduceauction.com
SUMMARY:October 9\, 2025
DESCRIPTION:Description# SoldAverageHigh PriceLow Price\n\n\n\n\n	apple pk bag20674.5\n\n\n	beets red pk8121310\n\n\n	broccoli 10ct89.179.58.5\n\n\n	broccoli 12ct1011.5167\n\n\n	cabbage 12ct149.64108.5\n\n\n	cabbage 5ct6666\n\n\n	cabbage chinese pk83.8353\n\n\n	cantaloupe 8ct4161616\n\n\n	cantaloupe pk744.53\n\n\n	carrots 1/2pk2888\n\n\n	cauliflower 4ct64.54.54.5\n\n\n	cauliflower 6ct44.754.754.75\n\n\n	cherry pt121.51.51.5\n\n\n	corn shock bdle201.421.751.25\n\n\n	cukes 1/2pk2444\n\n\n	eggplant pk72.52.52.5\n\n\n	fall mix gourds bin70222\n\n\n	garlic201.051.051.05\n\n\n	gourds mix bin1500.881.250.45\n\n\n	gourds spinner pt10111\n\n\n	gourds wing1000.30.30.3\n\n\n	gourds wing pk45.7565.5\n\n\n	green bean 1/2 bu2915.882212\n\n\n	green bean 1/2pk76.576\n\n\n	green bean pk147.687\n\n\n	huckleberry pt103.53.53.5\n\n\n	indian corn bndl771.061.251\n\n\n	indian corn ring7666\n\n\n	JBLs 1/2bu1100.60.750.45\n\n\n	JBLs 1/2pk25.55.55.5\n\n\n	JBLs pk3101010\n\n\n	mums1185.35102.5\n\n\n	mums hanging basket168116.5\n\n\n	mums tri color hanging basket1416.62112\n\n\n	okra 1/2pk3222\n\n\n	onion candy 1/2pk102.752.752.75\n\n\n	onion candy pk409.72137\n\n\n	onion candy pk #2147.595\n\n\n	onion red pk38.5107\n\n\n	pears pk2555\n\n\n	pepper banana hot 1/2bu284.8372.5\n\n\n	pepper banana hot crooked 1/2bu132.131\n\n\n	pepper banana hot pk4111\n\n\n	pepper banana inferno 1/2bu5222\n\n\n	pepper banana semi hot 1/2 bu43.543\n\n\n	pepper banana sweet 1/2bu135.573\n\n\n	pepper banana sweet 1/2pk3111\n\n\n	pepper banana sweet bu1777\n\n\n	pepper banana sweet pk622.51.5\n\n\n	pepper bell 1/2bu6333\n\n\n	pepper bell bu1069.54194\n\n\n	pepper bell chopper bu195.1773\n\n\n	pepper bell pk224.8192.5\n\n\n	pepper bell red pk194.2562.5\n\n\n	pepper jalapeno 1/2pk493.294.52\n\n\n	pepper jalapeno pk54.54.54.5\n\n\n	pepper sweet snack 1/2pk5666\n\n\n	pickles pk4111111\n\n\n	potato kennebec 5 lb481.7421.6\n\n\n	potato kennebec 50 lb40151613\n\n\n	potato red 5lb1034.52.25\n\n\n	potato sweet pk1411.671310\n\n\n	potato yukon gold 5lb173.54.252.75\n\n\n	pumpkins410.510.510.5\n\n\n	pumpkins bin lg1725.097.252.5\n\n\n	pumpkins bin med4252.684.251.75\n\n\n	pumpkins bin sm1002.252.252.25\n\n\n	pumpkins flat bin1201.3320.65\n\n\n	pumpkins pie350.60.60.6\n\n\n	pumpkins pie bin5250.510.750.35\n\n\n	pumpkins pie blaze250.350.350.35\n\n\n	pumpkins pie mix bin3900.781.50.5\n\n\n	pumpkins warty bin902.923.52\n\n\n	raspberry red pt7555\n\n\n	squash acorn350.60.60.6\n\n\n	squash acorn 1/2 bu3777\n\n\n	squash spaghetti 10ct2666\n\n\n	squash spaghetti 20ct513.671513\n\n\n	sweet corn bi color 4dz1313.671612\n\n\n	tomato 1/2pk855.54.5\n\n\n	tomato 10lb flat1911.51510\n\n\n	tomato 10lb flat #2298.86106\n\n\n	tomato 3X4 10lb flat919.52317\n\n\n	tomato 4X4 10lb flat16151712\n\n\n	tomato 4X5 10lb flat2212.711511\n\n\n	tomato canner 1/2bu567.73136\n\n\n	tomato canner yellow 1/2bu83.543\n\n\n	tomato grape pt121.251.251.25\n\n\n	tomato green 1/2pk52.7532.5\n\n\n	tomato green 10lb flat158.598\n\n\n	tomato heirloom 10lb flat2212121\n\n\n	tomato roma 1/2bu18142010\n\n\n	tomato roma pk115.565\n\n\n	tomato yellow 1/2pk12222\n\n\n	tomato yellow 10lb flat812.51411\n\n\n	tomato yellow 10lb flat #27342\n\n\n	tomato yellow qt81.251.251.25\n\n\n	watermelon crimson232.753.751.75\n\n\n	watermelon crimson bin801.6721.25\n\n\n	watermelon sangria82.883.52.25\n\n\n	watermelon sangria bin251.51.51.5\n\n\n	watermelon seedless82.52.752.25\n\n\n	watermelon seedless bin852.6732.5\n\n\n	zucchini 1/2bu404.8673\n\n\n	zucchini bu2333\n\n\n	zucchini pk52.7532.5
URL:https://peoliproduceauction.com/event/october-9-2025/
LOCATION:Peoli Farms Produce Auction\, 675 State Route 258\, Newcomerstown\, Ohio\, 43832\, United States
CATEGORIES:Market Report
END:VEVENT
BEGIN:VEVENT
DTSTART;TZID=America/New_York:20251016T140000
DTEND;TZID=America/New_York:20251016T180000
DTSTAMP:20260420T000810
CREATED:20260213T211139Z
LAST-MODIFIED:20260213T212433Z
UID:5559-1760623200-1760637600@peoliproduceauction.com
SUMMARY:October 16\, 2025
DESCRIPTION:Description# SoldAverageHigh PriceLow Price\n\n\n\n\n	beets red pk20777\n\n\n	broccolli 1/2pk8222\n\n\n	broccolli 10ct500.450.550.35\n\n\n	broccolli 15ct1430.781.050.65\n\n\n	broccolli 75ct bin1500.50.550.45\n\n\n	butternut squ 12ct1017.52114\n\n\n	cabbage 6ct20121212\n\n\n	cabbage 9ct3121212\n\n\n	cabbage chinese pk63.543\n\n\n	carrot pk710.51110\n\n\n	cauliflower bin501.11.11.1\n\n\n	eggplant pk32.52.52.5\n\n\n	garlic4051.0250.37\n\n\n	garlic pt16333\n\n\n	gourds mix bin1100.650.650.65\n\n\n	green bean 1/2 bu621.332419\n\n\n	huckleberry pt20444\n\n\n	indian corn bndl411.151.151.15\n\n\n	indian corn ring183.6743.5\n\n\n	kohlrabi 1/2 pk1151515\n\n\n	mumbo decor2777\n\n\n	mums393.75.52.5\n\n\n	mums hanging basket46.7585.5\n\n\n	okra 1/2pk13.53.53.5\n\n\n	onion 3#8333\n\n\n	onion candy pk459.5134\n\n\n	onion candy pk #2444.2553.5\n\n\n	pepper banana hot 1/2bu284.255.53.5\n\n\n	pepper banana hot 1/2pk102.6732\n\n\n	pepper banana hot crooked 1/2bu83.253.53\n\n\n	pepper banana hot pk3555\n\n\n	pepper banana inferno 1/2bu83.173.53\n\n\n	pepper banana sweet 1/2bu393.695.51.5\n\n\n	pepper banana sweet pk202.633.52\n\n\n	pepper bell bu1089.52137\n\n\n	pepper bell chopper 1/2bu4333\n\n\n	pepper bell chopper bu286.2584\n\n\n	pepper bell colored bu611.1713.510\n\n\n	pepper bell pk83.543\n\n\n	pepper jalapeno 1/2bu137.596.5\n\n\n	pepper jalapeno 1/2pk452.4232\n\n\n	pepper jalapeno pk17444\n\n\n	pepper sweet snack 1/2pk4333\n\n\n	potato kennebec 5 lb422.32.52.25\n\n\n	potato kennebec 50 lb1404040\n\n\n	potato sweet pk3114.672011\n\n\n	potato yukon gold 5lb352.552.752.5\n\n\n	pumpkins512.493.51.15\n\n\n	pumpkins bin lg1663.568.52\n\n\n	pumpkins bin med3851.5330.85\n\n\n	pumpkins bin sm3101.061.750.75\n\n\n	pumpkins flat bin1501.021.550.65\n\n\n	pumpkins JBL1450.280.320.24\n\n\n	pumpkins JBL pk2786\n\n\n	pumpkins pie950.821.050.55\n\n\n	pumpkins pie bin501.051.051.05\n\n\n	pumpkins pie pk1111\n\n\n	pumpkins pie white bin3000.971.550.45\n\n\n	pumpkins stackable52.8841.75\n\n\n	pumpkins warty bin651.131.251\n\n\n	pumpkins white32.52.52.5\n\n\n	pumpkins white sm bin2500.780.850.65\n\n\n	raspberry red pt93.53.53.5\n\n\n	squash acorn 1/2bu2777\n\n\n	squash acorn bu810.33158\n\n\n	squash spaghetti 20ct5131313\n\n\n	squash spaghetti 30ct2232323\n\n\n	sweet corn 4dz6161616\n\n\n	tomato 1/2pk96.3375\n\n\n	tomato 10lb flat810.75168\n\n\n	tomato 10lb flat #2328.8510.56\n\n\n	tomato 3X4 10lb flat10161715\n\n\n	tomato 4X4 10lb flat624.672524\n\n\n	tomato 4X5 10lb flat1315.751913\n\n\n	tomato canner 1/2bu3210.25138\n\n\n	tomato canner yellow 1/2bu2555\n\n\n	tomato green 1/2pk73.2551.5\n\n\n	tomato green 10lb flat277.5104\n\n\n	tomato green pk9675\n\n\n	tomato green qt8444\n\n\n	tomato heirloom 10lb flat3272727\n\n\n	tomato heirloom 10lb flat #21191919\n\n\n	tomato pk2333\n\n\n	tomato roma 1/2 bu229107\n\n\n	tomato roma pk146.1775\n\n\n	tomato yellow 10lb flat2171717\n\n\n	watermelon crimson143.5551.25\n\n\n	watermelon crimson bin750.470.550.35\n\n\n	watermelon sangria bin150.950.950.95\n\n\n	watermelon seedless102.532\n\n\n	watermelon seedless bin602.382.752\n\n\n	wing gourds bin2400.150.150.15\n\n\n	wing gourds pk2222\n\n\n	zucchini 1/2bu1210.83139\n\n\n	zucchini pk7888\n\n\n	zucchini XL bag1101010
URL:https://peoliproduceauction.com/event/october-16-2025/
LOCATION:Peoli Farms Produce Auction\, 675 State Route 258\, Newcomerstown\, Ohio\, 43832\, United States
CATEGORIES:Market Report
END:VEVENT
BEGIN:VEVENT
DTSTART;TZID=America/New_York:20251016T140000
DTEND;TZID=America/New_York:20251016T180000
DTSTAMP:20260420T000810
CREATED:20260217T220654Z
LAST-MODIFIED:20260217T220654Z
UID:5702-1760623200-1760637600@peoliproduceauction.com
SUMMARY:October 16\, 2025
DESCRIPTION:Description# SoldAverageHigh PriceLow Price\n\n\n\n\n	beets red pk20777\n\n\n	broccolli 1/2pk8222\n\n\n	broccolli 10ct500.450.550.35\n\n\n	broccolli 15ct1430.781.050.65\n\n\n	broccolli 75ct bin1500.50.550.45\n\n\n	butternut squ 12ct1017.52114\n\n\n	cabbage 6ct20121212\n\n\n	cabbage 9ct3121212\n\n\n	cabbage chinese pk63.543\n\n\n	carrot pk710.51110\n\n\n	cauliflower bin501.11.11.1\n\n\n	eggplant pk32.52.52.5\n\n\n	garlic4051.0250.37\n\n\n	garlic pt16333\n\n\n	gourds mix bin1100.650.650.65\n\n\n	green bean 1/2 bu621.332419\n\n\n	huckleberry pt20444\n\n\n	indian corn bndl411.151.151.15\n\n\n	indian corn ring183.6743.5\n\n\n	kohlrabi 1/2 pk1151515\n\n\n	mumbo decor2777\n\n\n	mums393.75.52.5\n\n\n	mums hanging basket46.7585.5\n\n\n	okra 1/2pk13.53.53.5\n\n\n	onion 3#8333\n\n\n	onion candy pk459.5134\n\n\n	onion candy pk #2444.2553.5\n\n\n	pepper banana hot 1/2bu284.255.53.5\n\n\n	pepper banana hot 1/2pk102.6732\n\n\n	pepper banana hot crooked 1/2bu83.253.53\n\n\n	pepper banana hot pk3555\n\n\n	pepper banana inferno 1/2bu83.173.53\n\n\n	pepper banana sweet 1/2bu393.695.51.5\n\n\n	pepper banana sweet pk202.633.52\n\n\n	pepper bell bu1089.52137\n\n\n	pepper bell chopper 1/2bu4333\n\n\n	pepper bell chopper bu286.2584\n\n\n	pepper bell colored bu611.1713.510\n\n\n	pepper bell pk83.543\n\n\n	pepper jalapeno 1/2bu137.596.5\n\n\n	pepper jalapeno 1/2pk452.4232\n\n\n	pepper jalapeno pk17444\n\n\n	pepper sweet snack 1/2pk4333\n\n\n	potato kennebec 5 lb422.32.52.25\n\n\n	potato kennebec 50 lb1404040\n\n\n	potato sweet pk3114.672011\n\n\n	potato yukon gold 5lb352.552.752.5\n\n\n	pumpkins512.493.51.15\n\n\n	pumpkins bin lg1663.568.52\n\n\n	pumpkins bin med3851.5330.85\n\n\n	pumpkins bin sm3101.061.750.75\n\n\n	pumpkins flat bin1501.021.550.65\n\n\n	pumpkins JBL1450.280.320.24\n\n\n	pumpkins JBL pk2786\n\n\n	pumpkins pie950.821.050.55\n\n\n	pumpkins pie bin501.051.051.05\n\n\n	pumpkins pie pk1111\n\n\n	pumpkins pie white bin3000.971.550.45\n\n\n	pumpkins stackable52.8841.75\n\n\n	pumpkins warty bin651.131.251\n\n\n	pumpkins white32.52.52.5\n\n\n	pumpkins white sm bin2500.780.850.65\n\n\n	raspberry red pt93.53.53.5\n\n\n	squash acorn 1/2bu2777\n\n\n	squash acorn bu810.33158\n\n\n	squash spaghetti 20ct5131313\n\n\n	squash spaghetti 30ct2232323\n\n\n	sweet corn 4dz6161616\n\n\n	tomato 1/2pk96.3375\n\n\n	tomato 10lb flat810.75168\n\n\n	tomato 10lb flat #2328.8510.56\n\n\n	tomato 3X4 10lb flat10161715\n\n\n	tomato 4X4 10lb flat624.672524\n\n\n	tomato 4X5 10lb flat1315.751913\n\n\n	tomato canner 1/2bu3210.25138\n\n\n	tomato canner yellow 1/2bu2555\n\n\n	tomato green 1/2pk73.2551.5\n\n\n	tomato green 10lb flat277.5104\n\n\n	tomato green pk9675\n\n\n	tomato green qt8444\n\n\n	tomato heirloom 10lb flat3272727\n\n\n	tomato heirloom 10lb flat #21191919\n\n\n	tomato pk2333\n\n\n	tomato roma 1/2 bu229107\n\n\n	tomato roma pk146.1775\n\n\n	tomato yellow 10lb flat2171717\n\n\n	watermelon crimson143.5551.25\n\n\n	watermelon crimson bin750.470.550.35\n\n\n	watermelon sangria bin150.950.950.95\n\n\n	watermelon seedless102.532\n\n\n	watermelon seedless bin602.382.752\n\n\n	wing gourds bin2400.150.150.15\n\n\n	wing gourds pk2222\n\n\n	zucchini 1/2bu1210.83139\n\n\n	zucchini pk7888\n\n\n	zucchini XL bag1101010
URL:https://peoliproduceauction.com/event/october-16-2025-2/
LOCATION:Peoli Farms Produce Auction\, 675 State Route 258\, Newcomerstown\, Ohio\, 43832\, United States
CATEGORIES:Market Report
END:VEVENT
BEGIN:VEVENT
DTSTART;TZID=America/New_York:20260411T090000
DTEND;TZID=America/New_York:20260411T190000
DTSTAMP:20260420T000810
CREATED:20260213T215240Z
LAST-MODIFIED:20260213T221823Z
UID:5587-1775898000-1775934000@peoliproduceauction.com
SUMMARY:Spring Consignment Auction
DESCRIPTION:
URL:https://peoliproduceauction.com/event/spring-consignment-auction/
LOCATION:Peoli Farms Produce Auction\, 675 State Route 258\, Newcomerstown\, Ohio\, 43832\, United States
CATEGORIES:Consignment Auction
END:VEVENT
BEGIN:VEVENT
DTSTART;TZID=America/New_York:20260416T170000
DTEND;TZID=America/New_York:20260416T200000
DTSTAMP:20260420T000810
CREATED:20260213T223948Z
LAST-MODIFIED:20260213T224156Z
UID:5610-1776358800-1776369600@peoliproduceauction.com
SUMMARY:Produce Auction
DESCRIPTION:
URL:https://peoliproduceauction.com/event/produce-auction/
LOCATION:Peoli Farms Produce Auction\, 675 State Route 258\, Newcomerstown\, Ohio\, 43832\, United States
CATEGORIES:Produce Auction
END:VEVENT
BEGIN:VEVENT
DTSTART;TZID=America/New_York:20260423T170000
DTEND;TZID=America/New_York:20260423T200000
DTSTAMP:20260420T000810
CREATED:20260213T224038Z
LAST-MODIFIED:20260213T224057Z
UID:5612-1776963600-1776974400@peoliproduceauction.com
SUMMARY:Produce Auction
DESCRIPTION:
URL:https://peoliproduceauction.com/event/produce-auction-2/
LOCATION:Peoli Farms Produce Auction\, 675 State Route 258\, Newcomerstown\, Ohio\, 43832\, United States
CATEGORIES:Produce Auction
END:VEVENT
BEGIN:VEVENT
DTSTART;TZID=America/New_York:20260424T140000
DTEND;TZID=America/New_York:20260424T183000
DTSTAMP:20260420T000810
CREATED:20260222T193154Z
LAST-MODIFIED:20260306T191257Z
UID:6879-1777039200-1777055400@peoliproduceauction.com
SUMMARY:Blood Drive
DESCRIPTION:
URL:https://peoliproduceauction.com/event/blood-drive/
LOCATION:Peoli Farms Produce Auction\, 675 State Route 258\, Newcomerstown\, Ohio\, 43832\, United States
CATEGORIES:Blood Drive
END:VEVENT
BEGIN:VEVENT
DTSTART;TZID=America/New_York:20260430T170000
DTEND;TZID=America/New_York:20260430T200000
DTSTAMP:20260420T000810
CREATED:20260213T224242Z
LAST-MODIFIED:20260213T224242Z
UID:5614-1777568400-1777579200@peoliproduceauction.com
SUMMARY:Produce Auction
DESCRIPTION:
URL:https://peoliproduceauction.com/event/produce-auction-3/
LOCATION:Peoli Farms Produce Auction\, 675 State Route 258\, Newcomerstown\, Ohio\, 43832\, United States
CATEGORIES:Produce Auction
END:VEVENT
BEGIN:VEVENT
DTSTART;TZID=America/New_York:20260504T170000
DTEND;TZID=America/New_York:20260504T200000
DTSTAMP:20260420T000810
CREATED:20260213T235212Z
LAST-MODIFIED:20260213T235212Z
UID:5620-1777914000-1777924800@peoliproduceauction.com
SUMMARY:Produce Auction
DESCRIPTION:
URL:https://peoliproduceauction.com/event/produce-auction-4/
LOCATION:Peoli Farms Produce Auction\, 675 State Route 258\, Newcomerstown\, Ohio\, 43832\, United States
CATEGORIES:Produce Auction
END:VEVENT
BEGIN:VEVENT
DTSTART;TZID=America/New_York:20260507T170000
DTEND;TZID=America/New_York:20260507T200000
DTSTAMP:20260420T000810
CREATED:20260213T235335Z
LAST-MODIFIED:20260213T235335Z
UID:5622-1778173200-1778184000@peoliproduceauction.com
SUMMARY:Produce Auction
DESCRIPTION:
URL:https://peoliproduceauction.com/event/produce-auction-5/
LOCATION:Peoli Farms Produce Auction\, 675 State Route 258\, Newcomerstown\, Ohio\, 43832\, United States
CATEGORIES:Produce Auction
END:VEVENT
BEGIN:VEVENT
DTSTART;TZID=America/New_York:20260509T120000
DTEND;TZID=America/New_York:20260509T150000
DTSTAMP:20260420T000810
CREATED:20260213T224457Z
LAST-MODIFIED:20260213T224457Z
UID:5618-1778328000-1778338800@peoliproduceauction.com
SUMMARY:Farmers Market
DESCRIPTION:
URL:https://peoliproduceauction.com/event/farmers-market/
LOCATION:Peoli Farms Produce Auction\, 675 State Route 258\, Newcomerstown\, Ohio\, 43832\, United States
CATEGORIES:Farmers Market
END:VEVENT
BEGIN:VEVENT
DTSTART;TZID=America/New_York:20260509T120000
DTEND;TZID=America/New_York:20260509T150000
DTSTAMP:20260420T000810
CREATED:20260221T022552Z
LAST-MODIFIED:20260221T022552Z
UID:6736-1778328000-1778338800@peoliproduceauction.com
SUMMARY:Farmer's Market
DESCRIPTION:
URL:https://peoliproduceauction.com/event/farmers-market-2/
LOCATION:Peoli Farms Produce Auction\, 675 State Route 258\, Newcomerstown\, Ohio\, 43832\, United States
CATEGORIES:Farmers Market
END:VEVENT
BEGIN:VEVENT
DTSTART;TZID=America/New_York:20260511T170000
DTEND;TZID=America/New_York:20260511T200000
DTSTAMP:20260420T000810
CREATED:20260213T235552Z
LAST-MODIFIED:20260213T235552Z
UID:5624-1778518800-1778529600@peoliproduceauction.com
SUMMARY:Produce Auction
DESCRIPTION:
URL:https://peoliproduceauction.com/event/produce-auction-6/
LOCATION:Peoli Farms Produce Auction\, 675 State Route 258\, Newcomerstown\, Ohio\, 43832\, United States
CATEGORIES:Produce Auction
END:VEVENT
BEGIN:VEVENT
DTSTART;TZID=America/New_York:20260514T170000
DTEND;TZID=America/New_York:20260514T200000
DTSTAMP:20260420T000810
CREATED:20260213T235652Z
LAST-MODIFIED:20260213T235652Z
UID:5626-1778778000-1778788800@peoliproduceauction.com
SUMMARY:NO AUCTION
DESCRIPTION:
URL:https://peoliproduceauction.com/event/no-auction/
LOCATION:Peoli Farms Produce Auction\, 675 State Route 258\, Newcomerstown\, Ohio\, 43832\, United States
CATEGORIES:Produce Auction
END:VEVENT
BEGIN:VEVENT
DTSTART;TZID=America/New_York:20260515T170000
DTEND;TZID=America/New_York:20260515T200000
DTSTAMP:20260420T000810
CREATED:20260213T235738Z
LAST-MODIFIED:20260213T235738Z
UID:5628-1778864400-1778875200@peoliproduceauction.com
SUMMARY:Produce Auction
DESCRIPTION:
URL:https://peoliproduceauction.com/event/produce-auction-7/
LOCATION:Peoli Farms Produce Auction\, 675 State Route 258\, Newcomerstown\, Ohio\, 43832\, United States
CATEGORIES:Produce Auction
END:VEVENT
BEGIN:VEVENT
DTSTART;TZID=America/New_York:20260516T120000
DTEND;TZID=America/New_York:20260516T150000
DTSTAMP:20260420T000810
CREATED:20260222T155353Z
LAST-MODIFIED:20260222T155353Z
UID:6823-1778932800-1778943600@peoliproduceauction.com
SUMMARY:Farmers Market
DESCRIPTION:
URL:https://peoliproduceauction.com/event/farmers-market-3/
LOCATION:Peoli Farms Produce Auction\, 675 State Route 258\, Newcomerstown\, Ohio\, 43832\, United States
CATEGORIES:Farmers Market
END:VEVENT
BEGIN:VEVENT
DTSTART;TZID=America/New_York:20260518T170000
DTEND;TZID=America/New_York:20260518T200000
DTSTAMP:20260420T000810
CREATED:20260213T235842Z
LAST-MODIFIED:20260213T235842Z
UID:5630-1779123600-1779134400@peoliproduceauction.com
SUMMARY:Produce Auction
DESCRIPTION:
URL:https://peoliproduceauction.com/event/produce-auction-8/
LOCATION:Peoli Farms Produce Auction\, 675 State Route 258\, Newcomerstown\, Ohio\, 43832\, United States
CATEGORIES:Produce Auction
END:VEVENT
BEGIN:VEVENT
DTSTART;TZID=America/New_York:20260521T170000
DTEND;TZID=America/New_York:20260521T200000
DTSTAMP:20260420T000810
CREATED:20260213T235923Z
LAST-MODIFIED:20260213T235923Z
UID:5632-1779382800-1779393600@peoliproduceauction.com
SUMMARY:Produce Auction
DESCRIPTION:
URL:https://peoliproduceauction.com/event/produce-auction-9/
LOCATION:Peoli Farms Produce Auction\, 675 State Route 258\, Newcomerstown\, Ohio\, 43832\, United States
CATEGORIES:Produce Auction
END:VEVENT
BEGIN:VEVENT
DTSTART;TZID=America/New_York:20260523T120000
DTEND;TZID=America/New_York:20260523T150000
DTSTAMP:20260420T000810
CREATED:20260222T155422Z
LAST-MODIFIED:20260222T155422Z
UID:6825-1779537600-1779548400@peoliproduceauction.com
SUMMARY:Farmers Market
DESCRIPTION:
URL:https://peoliproduceauction.com/event/farmers-market-4/
LOCATION:Peoli Farms Produce Auction\, 675 State Route 258\, Newcomerstown\, Ohio\, 43832\, United States
CATEGORIES:Farmers Market
END:VEVENT
BEGIN:VEVENT
DTSTART;TZID=America/New_York:20260525T140000
DTEND;TZID=America/New_York:20260525T200000
DTSTAMP:20260420T000810
CREATED:20260214T000748Z
LAST-MODIFIED:20260214T000748Z
UID:5634-1779717600-1779739200@peoliproduceauction.com
SUMMARY:Produce Auction
DESCRIPTION:
URL:https://peoliproduceauction.com/event/produce-auction-10/
LOCATION:Peoli Farms Produce Auction\, 675 State Route 258\, Newcomerstown\, Ohio\, 43832\, United States
CATEGORIES:Produce Auction
END:VEVENT
BEGIN:VEVENT
DTSTART;TZID=America/New_York:20260528T140000
DTEND;TZID=America/New_York:20260528T180000
DTSTAMP:20260420T000810
CREATED:20260214T000833Z
LAST-MODIFIED:20260214T000848Z
UID:5636-1779976800-1779991200@peoliproduceauction.com
SUMMARY:Produce Auction
DESCRIPTION:
URL:https://peoliproduceauction.com/event/produce-auction-11/
LOCATION:Peoli Farms Produce Auction\, 675 State Route 258\, Newcomerstown\, Ohio\, 43832\, United States
CATEGORIES:Produce Auction
END:VEVENT
BEGIN:VEVENT
DTSTART;TZID=America/New_York:20260529T150000
DTEND;TZID=America/New_York:20260529T193000
DTSTAMP:20260420T000810
CREATED:20260222T193229Z
LAST-MODIFIED:20260222T193229Z
UID:6881-1780066800-1780083000@peoliproduceauction.com
SUMMARY:Blood Drive
DESCRIPTION:
URL:https://peoliproduceauction.com/event/blood-drive-2/
LOCATION:Peoli Farms Produce Auction\, 675 State Route 258\, Newcomerstown\, Ohio\, 43832\, United States
CATEGORIES:Blood Drive
END:VEVENT
BEGIN:VEVENT
DTSTART;TZID=America/New_York:20260530T120000
DTEND;TZID=America/New_York:20260530T150000
DTSTAMP:20260420T000810
CREATED:20260222T155456Z
LAST-MODIFIED:20260222T155456Z
UID:6827-1780142400-1780153200@peoliproduceauction.com
SUMMARY:Farmers Market
DESCRIPTION:
URL:https://peoliproduceauction.com/event/farmers-market-5/
LOCATION:Peoli Farms Produce Auction\, 675 State Route 258\, Newcomerstown\, Ohio\, 43832\, United States
CATEGORIES:Farmers Market
END:VEVENT
BEGIN:VEVENT
DTSTART;TZID=America/New_York:20260601T140000
DTEND;TZID=America/New_York:20260601T180000
DTSTAMP:20260420T000810
CREATED:20260214T000926Z
LAST-MODIFIED:20260214T000926Z
UID:5638-1780322400-1780336800@peoliproduceauction.com
SUMMARY:Produce Auction
DESCRIPTION:
URL:https://peoliproduceauction.com/event/produce-auction-12/
LOCATION:Peoli Farms Produce Auction\, 675 State Route 258\, Newcomerstown\, Ohio\, 43832\, United States
CATEGORIES:Produce Auction
END:VEVENT
BEGIN:VEVENT
DTSTART;TZID=America/New_York:20260604T140000
DTEND;TZID=America/New_York:20260604T180000
DTSTAMP:20260420T000810
CREATED:20260214T000948Z
LAST-MODIFIED:20260214T000948Z
UID:5640-1780581600-1780596000@peoliproduceauction.com
SUMMARY:Produce Auction
DESCRIPTION:
URL:https://peoliproduceauction.com/event/produce-auction-13/
LOCATION:Peoli Farms Produce Auction\, 675 State Route 258\, Newcomerstown\, Ohio\, 43832\, United States
CATEGORIES:Produce Auction
END:VEVENT
BEGIN:VEVENT
DTSTART;TZID=America/New_York:20260606T120000
DTEND;TZID=America/New_York:20260606T150000
DTSTAMP:20260420T000810
CREATED:20260222T160037Z
LAST-MODIFIED:20260222T160037Z
UID:6829-1780747200-1780758000@peoliproduceauction.com
SUMMARY:Farmers Market
DESCRIPTION:
URL:https://peoliproduceauction.com/event/farmers-market-6/
LOCATION:Peoli Farms Produce Auction\, 675 State Route 258\, Newcomerstown\, Ohio\, 43832\, United States
CATEGORIES:Farmers Market
END:VEVENT
BEGIN:VEVENT
DTSTART;TZID=America/New_York:20260608T140000
DTEND;TZID=America/New_York:20260608T180000
DTSTAMP:20260420T000810
CREATED:20260214T001016Z
LAST-MODIFIED:20260214T001016Z
UID:5642-1780927200-1780941600@peoliproduceauction.com
SUMMARY:Produce Auction
DESCRIPTION:
URL:https://peoliproduceauction.com/event/produce-auction-14/
LOCATION:Peoli Farms Produce Auction\, 675 State Route 258\, Newcomerstown\, Ohio\, 43832\, United States
CATEGORIES:Produce Auction
END:VEVENT
BEGIN:VEVENT
DTSTART;TZID=America/New_York:20260611T140000
DTEND;TZID=America/New_York:20260611T180000
DTSTAMP:20260420T000810
CREATED:20260214T001056Z
LAST-MODIFIED:20260214T001056Z
UID:5644-1781186400-1781200800@peoliproduceauction.com
SUMMARY:Produce Auction
DESCRIPTION:
URL:https://peoliproduceauction.com/event/produce-auction-15/
LOCATION:Peoli Farms Produce Auction\, 675 State Route 258\, Newcomerstown\, Ohio\, 43832\, United States
CATEGORIES:Produce Auction
END:VEVENT
BEGIN:VEVENT
DTSTART;TZID=America/New_York:20260613T120000
DTEND;TZID=America/New_York:20260613T150000
DTSTAMP:20260420T000810
CREATED:20260222T163647Z
LAST-MODIFIED:20260222T163647Z
UID:6833-1781352000-1781362800@peoliproduceauction.com
SUMMARY:Farmers Market
DESCRIPTION:
URL:https://peoliproduceauction.com/event/farmers-market-8/
LOCATION:Peoli Farms Produce Auction\, 675 State Route 258\, Newcomerstown\, Ohio\, 43832\, United States
CATEGORIES:Farmers Market
END:VEVENT
BEGIN:VEVENT
DTSTART;TZID=America/New_York:20260615T140000
DTEND;TZID=America/New_York:20260615T180000
DTSTAMP:20260420T000810
CREATED:20260214T001637Z
LAST-MODIFIED:20260214T001637Z
UID:5652-1781532000-1781546400@peoliproduceauction.com
SUMMARY:Produce Auction
DESCRIPTION:
URL:https://peoliproduceauction.com/event/produce-auction-19/
LOCATION:Peoli Farms Produce Auction\, 675 State Route 258\, Newcomerstown\, Ohio\, 43832\, United States
CATEGORIES:Produce Auction
END:VEVENT
END:VCALENDAR